BEGIN:VCALENDAR
VERSION:2.0
PRODID:-//Free Spirit Tours - ECPv6.15.20//NONSGML v1.0//EN
CALSCALE:GREGORIAN
METHOD:PUBLISH
X-WR-CALNAME:Free Spirit Tours
X-ORIGINAL-URL:https://freespirittours.ca
X-WR-CALDESC:Events for Free Spirit Tours
REFRESH-INTERVAL;VALUE=DURATION:PT1H
X-Robots-Tag:noindex
X-PUBLISHED-TTL:PT1H
BEGIN:VTIMEZONE
TZID:America/Toronto
BEGIN:DAYLIGHT
TZOFFSETFROM:-0500
TZOFFSETTO:-0400
TZNAME:EDT
DTSTART:20220313T070000
END:DAYLIGHT
BEGIN:STANDARD
TZOFFSETFROM:-0400
TZOFFSETTO:-0500
TZNAME:EST
DTSTART:20221106T060000
END:STANDARD
BEGIN:DAYLIGHT
TZOFFSETFROM:-0500
TZOFFSETTO:-0400
TZNAME:EDT
DTSTART:20230312T070000
END:DAYLIGHT
BEGIN:STANDARD
TZOFFSETFROM:-0400
TZOFFSETTO:-0500
TZNAME:EST
DTSTART:20231105T060000
END:STANDARD
BEGIN:DAYLIGHT
TZOFFSETFROM:-0500
TZOFFSETTO:-0400
TZNAME:EDT
DTSTART:20240310T070000
END:DAYLIGHT
BEGIN:STANDARD
TZOFFSETFROM:-0400
TZOFFSETTO:-0500
TZNAME:EST
DTSTART:20241103T060000
END:STANDARD
END:VTIMEZONE
BEGIN:VEVENT
DTSTART;TZID=America/Toronto:20231221T103000
DTEND;TZID=America/Toronto:20231221T123000
DTSTAMP:20260424T015054
CREATED:20231208T132144Z
LAST-MODIFIED:20240326T195658Z
UID:4539-1703154600-1703161800@freespirittours.ca
SUMMARY:Winter Solstice Forest Therapy Walk
DESCRIPTION:Join Out_door Kat for a guided Winter Solstice Forest Therapy Walk. Take this time to pause and connect before the rush of the season takes over. Dress accordingly as we will be outside the entire time. Warm layers\, socks\, gloves\, and hats are recommended as well as a snow proof outer layer. Tea and snacks will be provided upon closing the walk. For more information please visit our Forest Therapy page. For all inquiries\, please contact katrinashand@gmail.com.
URL:https://freespirittours.ca/event/winter-solstice-forest-therapy-walk/
LOCATION:Metcalfe Rock\, 415598 10 Line\, Ravenna\, Ontario\, N0H 2E0\, Canada
ATTACH;FMTTYPE=image/jpeg:https://freespirittours.ca/wp-content/uploads/2023/12/image9-e1711482993879.jpeg
END:VEVENT
END:VCALENDAR