BEGIN:VCALENDAR
VERSION:2.0
PRODID:-//Free Spirit Tours - ECPv6.15.20//NONSGML v1.0//EN
CALSCALE:GREGORIAN
METHOD:PUBLISH
X-ORIGINAL-URL:https://freespirittours.ca
X-WR-CALDESC:Events for Free Spirit Tours
REFRESH-INTERVAL;VALUE=DURATION:PT1H
X-Robots-Tag:noindex
X-PUBLISHED-TTL:PT1H
BEGIN:VTIMEZONE
TZID:America/Toronto
BEGIN:DAYLIGHT
TZOFFSETFROM:-0500
TZOFFSETTO:-0400
TZNAME:EDT
DTSTART:20230312T070000
END:DAYLIGHT
BEGIN:STANDARD
TZOFFSETFROM:-0400
TZOFFSETTO:-0500
TZNAME:EST
DTSTART:20231105T060000
END:STANDARD
BEGIN:DAYLIGHT
TZOFFSETFROM:-0500
TZOFFSETTO:-0400
TZNAME:EDT
DTSTART:20240310T070000
END:DAYLIGHT
BEGIN:STANDARD
TZOFFSETFROM:-0400
TZOFFSETTO:-0500
TZNAME:EST
DTSTART:20241103T060000
END:STANDARD
BEGIN:DAYLIGHT
TZOFFSETFROM:-0500
TZOFFSETTO:-0400
TZNAME:EDT
DTSTART:20250309T070000
END:DAYLIGHT
BEGIN:STANDARD
TZOFFSETFROM:-0400
TZOFFSETTO:-0500
TZNAME:EST
DTSTART:20251102T060000
END:STANDARD
END:VTIMEZONE
BEGIN:VEVENT
DTSTART;TZID=America/Toronto:20240224T190000
DTEND;TZID=America/Toronto:20240224T220000
DTSTAMP:20260421T220800
CREATED:20240207T005054Z
LAST-MODIFIED:20240326T195533Z
UID:4682-1708801200-1708812000@freespirittours.ca
SUMMARY:Women's Gathering - Full Moon Snowshoe and Bonfire
DESCRIPTION:Get ready for an amazing night as we snowshoe under the stars on moonlit trails\, soaking up the full moon’s magic and celebrating the significance it holds for us as women. It’s not only a hike; it’s a bonfire and a soulful celebration where you can expect a lot of laughs\, shared moments\, and connections with each other on an enchanting night. \nWe’ll supply the snowshoes\, bonfire\, hot\, beverages\, and engaging conversation. \nDATE: Saturday\, February 24th\, 2024\nTIME: 7:00 pm – 10:00 pm\nWHERE: 28 Sunset Court\, Wasaga Beach\nCOST: $45.00 \nDon’t miss this extraordinary evening under the stars!
URL:https://freespirittours.ca/event/womens-gathering-full-moon-snowshoe-and-bonfire/
LOCATION:Free Spirit Tours HQ – Wasaga\, 28 Sunset Court\, Wasaga Beach\, Ontario\, L9Y 4Y3\, Canada
ATTACH;FMTTYPE=image/png:https://freespirittours.ca/wp-content/uploads/2024/02/womens_fullmoon_snowshoe-e1711482922572.png
ORGANIZER;CN="Free Spirit Tours":MAILTO:info@freespirittours.ca
END:VEVENT
END:VCALENDAR