BEGIN:VCALENDAR
VERSION:2.0
PRODID:-//Free Spirit Tours - ECPv6.15.20//NONSGML v1.0//EN
CALSCALE:GREGORIAN
METHOD:PUBLISH
X-ORIGINAL-URL:https://freespirittours.ca
X-WR-CALDESC:Events for Free Spirit Tours
REFRESH-INTERVAL;VALUE=DURATION:PT1H
X-Robots-Tag:noindex
X-PUBLISHED-TTL:PT1H
BEGIN:VTIMEZONE
TZID:America/Toronto
BEGIN:DAYLIGHT
TZOFFSETFROM:-0500
TZOFFSETTO:-0400
TZNAME:EDT
DTSTART:20230312T070000
END:DAYLIGHT
BEGIN:STANDARD
TZOFFSETFROM:-0400
TZOFFSETTO:-0500
TZNAME:EST
DTSTART:20231105T060000
END:STANDARD
BEGIN:DAYLIGHT
TZOFFSETFROM:-0500
TZOFFSETTO:-0400
TZNAME:EDT
DTSTART:20240310T070000
END:DAYLIGHT
BEGIN:STANDARD
TZOFFSETFROM:-0400
TZOFFSETTO:-0500
TZNAME:EST
DTSTART:20241103T060000
END:STANDARD
BEGIN:DAYLIGHT
TZOFFSETFROM:-0500
TZOFFSETTO:-0400
TZNAME:EDT
DTSTART:20250309T070000
END:DAYLIGHT
BEGIN:STANDARD
TZOFFSETFROM:-0400
TZOFFSETTO:-0500
TZNAME:EST
DTSTART:20251102T060000
END:STANDARD
END:VTIMEZONE
BEGIN:VEVENT
DTSTART;TZID=America/Toronto:20240413T073000
DTEND;TZID=America/Toronto:20240413T143000
DTSTAMP:20260421T190530
CREATED:20240326T193916Z
LAST-MODIFIED:20240326T195343Z
UID:4707-1712993400-1713018600@freespirittours.ca
SUMMARY:City Shred Trail Elevation Challenge
DESCRIPTION:LET’S ELEVATE\, TOGETHER \nSave $10 with code: SPIRIT10 \nJoin us in conquering the elements + push past your limits at Blue Mountain on April 13th with @CITY_SHRED’s NEW Multi-loop Trail Elevation Challenge – ELEVATE🏔️❄️ \nChoose Your ELEVATION:\n🏔️ADULTS: 5K\, 10K\, or MAX Elevation (3hr Limit)\n🏔️KIDS: 1K\, 2K or MAX Elevation (1hr Limit) \nEmbrace the unknown – preparing for MUD\, ICE or RAIN as you power hike\, run\, or walk up 280M of Elevation within the first 2K\, then around and down\, alongside hundreds of Life Athletes. 🧊🌧❄️💧 \nWe don’t just celebrate the win\, we celebrate TO WIN 🎉 \nNominate a Life Athlete today upon registration\, and help us award community leaders who are motivating and paving the way to inspire people to conquer their fears and elevate their lives.\n\nCome for the ELEVATION\, Stay for the APRÉS CHALLENGE. \nJoin us at the finish line to celebrate in the Athlete Life Village with your favourite wellness brands. \nDon’t miss out and REGISTER + grab your bib now at https://events.city-shred.com/elevate-lp/ \nSave $10 with code: SPIRIT10 \nFAQ’s\nQ: Do people register as a team or individuals?\nA: People register as individuals but can tackle it as a team! We have many teams who are doing it together and some people who are doing it individually. \nQ: What is the route?\nA: This depends on the 5K\, 10K or MAX ELEVATION but up the ski hill is Cascade. The 10K also goes up Sunrise\, down Butternut\, back up Southern Cross\, down Waterfall of Big Baby and some of the flat across South Lodge. \nQ: Where is the apres event happening?\nA: Apres is happening at the finish line and on the South Lodge back patio where the DJ and vendors are. It’s going to be awesome. Awards will happen there too.
URL:https://freespirittours.ca/event/city-shred-trail-elevation-challenge/
LOCATION:Blue Mountain Resort – South Base Lodge\, 138 Gord Canning Dr\, The Blue Mountains\, Ontario\, Canada
ATTACH;FMTTYPE=image/png:https://freespirittours.ca/wp-content/uploads/2024/03/SPIRIT10-POST-1-2-e1711482816944.png
END:VEVENT
END:VCALENDAR