BEGIN:VCALENDAR
VERSION:2.0
PRODID:-//Free Spirit Tours - ECPv6.15.20//NONSGML v1.0//EN
CALSCALE:GREGORIAN
METHOD:PUBLISH
X-WR-CALNAME:Free Spirit Tours
X-ORIGINAL-URL:https://freespirittours.ca
X-WR-CALDESC:Events for Free Spirit Tours
REFRESH-INTERVAL;VALUE=DURATION:PT1H
X-Robots-Tag:noindex
X-PUBLISHED-TTL:PT1H
BEGIN:VTIMEZONE
TZID:America/Toronto
BEGIN:DAYLIGHT
TZOFFSETFROM:-0500
TZOFFSETTO:-0400
TZNAME:EDT
DTSTART:20230312T070000
END:DAYLIGHT
BEGIN:STANDARD
TZOFFSETFROM:-0400
TZOFFSETTO:-0500
TZNAME:EST
DTSTART:20231105T060000
END:STANDARD
BEGIN:DAYLIGHT
TZOFFSETFROM:-0500
TZOFFSETTO:-0400
TZNAME:EDT
DTSTART:20240310T070000
END:DAYLIGHT
BEGIN:STANDARD
TZOFFSETFROM:-0400
TZOFFSETTO:-0500
TZNAME:EST
DTSTART:20241103T060000
END:STANDARD
BEGIN:DAYLIGHT
TZOFFSETFROM:-0500
TZOFFSETTO:-0400
TZNAME:EDT
DTSTART:20250309T070000
END:DAYLIGHT
BEGIN:STANDARD
TZOFFSETFROM:-0400
TZOFFSETTO:-0500
TZNAME:EST
DTSTART:20251102T060000
END:STANDARD
END:VTIMEZONE
BEGIN:VEVENT
DTSTART;TZID=America/Toronto:20240414T100000
DTEND;TZID=America/Toronto:20240414T160000
DTSTAMP:20260421T190328
CREATED:20240327T154120Z
LAST-MODIFIED:20240327T154607Z
UID:4723-1713088800-1713110400@freespirittours.ca
SUMMARY:Animal Totems Retreat
DESCRIPTION:Ready to embark on a journey of self-discovery like no other? Join us at our Animal Totems Retreat\, where we’ll dive deep into the magic of nature and unlock the secrets of the Animal Kingdom. Picture yourself wandering through the forest\, feeling the connection and drawing meaning from the creatures around you. Here\, you’ll discover your Birth Totem\, Journey Totem\, and Shadow Totems\, uncovering the hidden messages they hold for you. Get ready to tap into their wisdom and discover a deeper understanding of yourself and the world around you. Don’t wait; reserve your spot now for an unforgettable experience! \nDATE: Sunday April 14th\, 2024\nTIME:  10:00 a.m. – 4:00 p.m.\nINVESTMENT:  $80 pp\nLOCATION:  Free Spirit Tours – 28 Sunset Court\, Wasaga Beach
URL:https://freespirittours.ca/event/animal-totems-retreat/
LOCATION:Free Spirit Tours HQ – Wasaga\, 28 Sunset Court\, Wasaga Beach\, Ontario\, L9Y 4Y3\, Canada
ATTACH;FMTTYPE=image/png:https://freespirittours.ca/wp-content/uploads/2024/03/animal_totems_retreat-e1711554111998.png
END:VEVENT
END:VCALENDAR