BEGIN:VCALENDAR
VERSION:2.0
PRODID:-//Free Spirit Tours - ECPv6.15.20//NONSGML v1.0//EN
CALSCALE:GREGORIAN
METHOD:PUBLISH
X-ORIGINAL-URL:https://freespirittours.ca
X-WR-CALDESC:Events for Free Spirit Tours
REFRESH-INTERVAL;VALUE=DURATION:PT1H
X-Robots-Tag:noindex
X-PUBLISHED-TTL:PT1H
BEGIN:VTIMEZONE
TZID:America/Toronto
BEGIN:DAYLIGHT
TZOFFSETFROM:-0500
TZOFFSETTO:-0400
TZNAME:EDT
DTSTART:20230312T070000
END:DAYLIGHT
BEGIN:STANDARD
TZOFFSETFROM:-0400
TZOFFSETTO:-0500
TZNAME:EST
DTSTART:20231105T060000
END:STANDARD
BEGIN:DAYLIGHT
TZOFFSETFROM:-0500
TZOFFSETTO:-0400
TZNAME:EDT
DTSTART:20240310T070000
END:DAYLIGHT
BEGIN:STANDARD
TZOFFSETFROM:-0400
TZOFFSETTO:-0500
TZNAME:EST
DTSTART:20241103T060000
END:STANDARD
BEGIN:DAYLIGHT
TZOFFSETFROM:-0500
TZOFFSETTO:-0400
TZNAME:EDT
DTSTART:20250309T070000
END:DAYLIGHT
BEGIN:STANDARD
TZOFFSETFROM:-0400
TZOFFSETTO:-0500
TZNAME:EST
DTSTART:20251102T060000
END:STANDARD
END:VTIMEZONE
BEGIN:VEVENT
DTSTART;TZID=America/Toronto:20240810T100000
DTEND;TZID=America/Toronto:20240810T170000
DTSTAMP:20260421T131544
CREATED:20231024T195726Z
LAST-MODIFIED:20240515T135032Z
UID:3604-1723284000-1723309200@freespirittours.ca
SUMMARY:Rockin the River 2024 (SOLD OUT)
DESCRIPTION:Rockin the River is a pre-registered guided tour where participants will either kayak or canoe down the Nottawasaga River from the Wasaga Beach Sports Park to Schoonertown Park. The paddle should take about 3 hours. Along the way there will be 10 different spots where musicians will be set up and performing. As the river has good current in it – participants will float by and listen to them – but will not stop. \nParticipants will be shuttled by bus back to the Sports Park to get their vehicle. \nFor more information\, please visit https://rockintheriver.ca/ \n \nRockin’ the River 2024 is SOLD OUT!\nTo join the waitlist\, please visit https://rockintheriver.ca/
URL:https://freespirittours.ca/event/rockin-the-river-2024/
LOCATION:Klondike Sports Park\, 1888 Klondike Park Rd\, Wasaga Beach\, Ontario\, L9Z 2W8\, Canada
ATTACH;FMTTYPE=image/png:https://freespirittours.ca/wp-content/uploads/2024/04/rockin_the_river_logo_white_bg_color_adjusted-e1712948356538.png
ORGANIZER;CN="Free Spirit Tours":MAILTO:info@freespirittours.ca
END:VEVENT
END:VCALENDAR