BEGIN:VCALENDAR
VERSION:2.0
PRODID:-//Free Spirit Tours - ECPv6.15.20//NONSGML v1.0//EN
CALSCALE:GREGORIAN
METHOD:PUBLISH
X-WR-CALNAME:Free Spirit Tours
X-ORIGINAL-URL:https://freespirittours.ca
X-WR-CALDESC:Events for Free Spirit Tours
REFRESH-INTERVAL;VALUE=DURATION:PT1H
X-Robots-Tag:noindex
X-PUBLISHED-TTL:PT1H
BEGIN:VTIMEZONE
TZID:America/Toronto
BEGIN:DAYLIGHT
TZOFFSETFROM:-0500
TZOFFSETTO:-0400
TZNAME:EDT
DTSTART:20230312T070000
END:DAYLIGHT
BEGIN:STANDARD
TZOFFSETFROM:-0400
TZOFFSETTO:-0500
TZNAME:EST
DTSTART:20231105T060000
END:STANDARD
BEGIN:DAYLIGHT
TZOFFSETFROM:-0500
TZOFFSETTO:-0400
TZNAME:EDT
DTSTART:20240310T070000
END:DAYLIGHT
BEGIN:STANDARD
TZOFFSETFROM:-0400
TZOFFSETTO:-0500
TZNAME:EST
DTSTART:20241103T060000
END:STANDARD
BEGIN:DAYLIGHT
TZOFFSETFROM:-0500
TZOFFSETTO:-0400
TZNAME:EDT
DTSTART:20250309T070000
END:DAYLIGHT
BEGIN:STANDARD
TZOFFSETFROM:-0400
TZOFFSETTO:-0500
TZNAME:EST
DTSTART:20251102T060000
END:STANDARD
END:VTIMEZONE
BEGIN:VEVENT
DTSTART;TZID=America/Toronto:20241116T100000
DTEND;TZID=America/Toronto:20241116T113000
DTSTAMP:20260421T082723
CREATED:20241106T164803Z
LAST-MODIFIED:20241106T165820Z
UID:5126-1731751200-1731756600@freespirittours.ca
SUMMARY:SGBCHC Forest Therapy Walk - Nov 16 (FREE)
DESCRIPTION:Enjoy a guided nature walk with Free Spirit Tours! Led by a certified Forest Therapy Guide\, this group walk is intended for participants to embrace nature and feel better mentally and physically by spending time outdoors and meeting other people in the community. *Please dress for the weather and bring a water bottle* \nThis is being offered for FREE as part of a partnership with the South Georgian Bay Community Health Centre. To register: https://www.southgeorgianbaychc.ca/event/275/
URL:https://freespirittours.ca/event/sgbchc-forest-therapy-walk-nov-16-free/
LOCATION:Bygone Days Heritage Museum\, 879 Sixth St\, Collingwood\, Ontario\, L9Y 3Y9\, Canada
ATTACH;FMTTYPE=image/jpeg:https://freespirittours.ca/wp-content/uploads/2023/11/image7.jpeg
END:VEVENT
END:VCALENDAR