BEGIN:VCALENDAR
VERSION:2.0
PRODID:-//Free Spirit Tours - ECPv6.15.20//NONSGML v1.0//EN
CALSCALE:GREGORIAN
METHOD:PUBLISH
X-ORIGINAL-URL:https://freespirittours.ca
X-WR-CALDESC:Events for Free Spirit Tours
REFRESH-INTERVAL;VALUE=DURATION:PT1H
X-Robots-Tag:noindex
X-PUBLISHED-TTL:PT1H
BEGIN:VTIMEZONE
TZID:America/Toronto
BEGIN:DAYLIGHT
TZOFFSETFROM:-0500
TZOFFSETTO:-0400
TZNAME:EDT
DTSTART:20240310T070000
END:DAYLIGHT
BEGIN:STANDARD
TZOFFSETFROM:-0400
TZOFFSETTO:-0500
TZNAME:EST
DTSTART:20241103T060000
END:STANDARD
BEGIN:DAYLIGHT
TZOFFSETFROM:-0500
TZOFFSETTO:-0400
TZNAME:EDT
DTSTART:20250309T070000
END:DAYLIGHT
BEGIN:STANDARD
TZOFFSETFROM:-0400
TZOFFSETTO:-0500
TZNAME:EST
DTSTART:20251102T060000
END:STANDARD
BEGIN:DAYLIGHT
TZOFFSETFROM:-0500
TZOFFSETTO:-0400
TZNAME:EDT
DTSTART:20260308T070000
END:DAYLIGHT
BEGIN:STANDARD
TZOFFSETFROM:-0400
TZOFFSETTO:-0500
TZNAME:EST
DTSTART:20261101T060000
END:STANDARD
END:VTIMEZONE
BEGIN:VEVENT
DTSTART;TZID=America/Toronto:20250105T120000
DTEND;TZID=America/Toronto:20250105T150000
DTSTAMP:20260421T063518
CREATED:20241206T163711Z
LAST-MODIFIED:20241230T002917Z
UID:5214-1736078400-1736089200@freespirittours.ca
SUMMARY:Shoe and Brew and Chew Adventure (Endswell Brewery) Jan 5
DESCRIPTION:Enjoy a scenic guided snowshoe at the beautiful Petun Conservation area followed by a pint and pizza at Endswell Brewery. Snowshoes will be provided. \nTRANSPORTATION IS INCLUDED from a meeting spot in Collingwood.
URL:https://freespirittours.ca/event/shoe-and-brew-and-chew-adventure-endswell-brewery-jan-5/
LOCATION:Petun Conservation Area\, Petun Conservation Area\, Collingwood\, Ontario\, L9Y 3Y9\, Canada
ATTACH;FMTTYPE=image/png:https://freespirittours.ca/wp-content/uploads/2024/12/IMG_8910_Endswell.png
ORGANIZER;CN="Free Spirit Tours":MAILTO:info@freespirittours.ca
END:VEVENT
END:VCALENDAR