BEGIN:VCALENDAR
VERSION:2.0
PRODID:-//Free Spirit Tours - ECPv6.15.20//NONSGML v1.0//EN
CALSCALE:GREGORIAN
METHOD:PUBLISH
X-WR-CALNAME:Free Spirit Tours
X-ORIGINAL-URL:https://freespirittours.ca
X-WR-CALDESC:Events for Free Spirit Tours
REFRESH-INTERVAL;VALUE=DURATION:PT1H
X-Robots-Tag:noindex
X-PUBLISHED-TTL:PT1H
BEGIN:VTIMEZONE
TZID:America/Toronto
BEGIN:DAYLIGHT
TZOFFSETFROM:-0500
TZOFFSETTO:-0400
TZNAME:EDT
DTSTART:20220313T070000
END:DAYLIGHT
BEGIN:STANDARD
TZOFFSETFROM:-0400
TZOFFSETTO:-0500
TZNAME:EST
DTSTART:20221106T060000
END:STANDARD
BEGIN:DAYLIGHT
TZOFFSETFROM:-0500
TZOFFSETTO:-0400
TZNAME:EDT
DTSTART:20230312T070000
END:DAYLIGHT
BEGIN:STANDARD
TZOFFSETFROM:-0400
TZOFFSETTO:-0500
TZNAME:EST
DTSTART:20231105T060000
END:STANDARD
BEGIN:DAYLIGHT
TZOFFSETFROM:-0500
TZOFFSETTO:-0400
TZNAME:EDT
DTSTART:20240310T070000
END:DAYLIGHT
BEGIN:STANDARD
TZOFFSETFROM:-0400
TZOFFSETTO:-0500
TZNAME:EST
DTSTART:20241103T060000
END:STANDARD
END:VTIMEZONE
BEGIN:VEVENT
DTSTART;TZID=America/Toronto:20230825T200000
DTEND;TZID=America/Toronto:20230825T213000
DTSTAMP:20260421T181121
CREATED:20231024T200144Z
LAST-MODIFIED:20231024T200437Z
UID:3608-1692993600-1692999000@freespirittours.ca
SUMMARY:Glow Kayaking
DESCRIPTION:Location: 28 Sunset Ct\, Wasaga Beach\, ON\nDate: Friday August 25\, 2023 and Friday\, September 1\, 2023\nTime: 8pm – 9:30pm\nCost: $75/person + HST \nEnjoy a guided evening paddle with our lighting system. This event will take place at our Wasaga Beach location. \nAll equipment is provided. \n\n \n\nSearching Availability… \n\n\nContinue to Secure Booking System »
URL:https://freespirittours.ca/event/glow-kayaking/
LOCATION:Free Spirit Tours HQ – Wasaga\, 28 Sunset Court\, Wasaga Beach\, Ontario\, L9Y 4Y3\, Canada
ATTACH;FMTTYPE=image/jpeg:https://freespirittours.ca/wp-content/uploads/2022/05/FST_web-red.jpg
ORGANIZER;CN="Free Spirit Tours":MAILTO:info@freespirittours.ca
END:VEVENT
BEGIN:VEVENT
DTSTART;TZID=America/Toronto:20230812T100000
DTEND;TZID=America/Toronto:20230812T170000
DTSTAMP:20260421T181121
CREATED:20231024T195521Z
LAST-MODIFIED:20231024T195521Z
UID:3599-1691834400-1691859600@freespirittours.ca
SUMMARY:Rockin the River 2023
DESCRIPTION:Rockin the River is a pre-registered guided tour where participants will either kayak or canoe down the Nottawasaga River from the Wasaga Beach Sports Park to Schoonertown Park. The paddle should take about 3 hours. Along the way there will be 10 different spots where musicians will be set up and performing. As the river has good current in it – participants will float by and listen to them – but will not stop. \nLocation: Klondike Sports Park\, Wasaga Beach\, ON\nDate: August 12\, 2023\nTime: 10:00am – 5:00pm\nCost: Bring your own canoe or kayak: $50 + HST + fees\nSingle kayak (1 person):               $90 + HST + fees\nCanoe (2+ people):                       $165 + HST + fees\nTandem kayak (2 people):            $165 + HST + fees\nTickets: On sale now!\nMore information: https://rockintheriver.ca
URL:https://freespirittours.ca/event/rockin-the-river-2023/
LOCATION:Klondike Sports Park\, 1888 Klondike Park Rd\, Wasaga Beach\, Ontario\, L9Z 2W8\, Canada
ATTACH;FMTTYPE=image/jpeg:https://freespirittours.ca/wp-content/uploads/2022/05/FST_web-red.jpg
ORGANIZER;CN="Free Spirit Tours":MAILTO:info@freespirittours.ca
END:VEVENT
END:VCALENDAR