BEGIN:VCALENDAR
VERSION:2.0
PRODID:-//Free Spirit Tours - ECPv6.15.20//NONSGML v1.0//EN
CALSCALE:GREGORIAN
METHOD:PUBLISH
X-ORIGINAL-URL:https://freespirittours.ca
X-WR-CALDESC:Events for Free Spirit Tours
REFRESH-INTERVAL;VALUE=DURATION:PT1H
X-Robots-Tag:noindex
X-PUBLISHED-TTL:PT1H
BEGIN:VTIMEZONE
TZID:America/Toronto
BEGIN:DAYLIGHT
TZOFFSETFROM:-0500
TZOFFSETTO:-0400
TZNAME:EDT
DTSTART:20230312T070000
END:DAYLIGHT
BEGIN:STANDARD
TZOFFSETFROM:-0400
TZOFFSETTO:-0500
TZNAME:EST
DTSTART:20231105T060000
END:STANDARD
BEGIN:DAYLIGHT
TZOFFSETFROM:-0500
TZOFFSETTO:-0400
TZNAME:EDT
DTSTART:20240310T070000
END:DAYLIGHT
BEGIN:STANDARD
TZOFFSETFROM:-0400
TZOFFSETTO:-0500
TZNAME:EST
DTSTART:20241103T060000
END:STANDARD
BEGIN:DAYLIGHT
TZOFFSETFROM:-0500
TZOFFSETTO:-0400
TZNAME:EDT
DTSTART:20250309T070000
END:DAYLIGHT
BEGIN:STANDARD
TZOFFSETFROM:-0400
TZOFFSETTO:-0500
TZNAME:EST
DTSTART:20251102T060000
END:STANDARD
END:VTIMEZONE
BEGIN:VEVENT
DTSTART;TZID=America/Toronto:20240519T100000
DTEND;TZID=America/Toronto:20240519T140000
DTSTAMP:20260421T161711
CREATED:20240503T004309Z
LAST-MODIFIED:20240506T165523Z
UID:4837-1716112800-1716127200@freespirittours.ca
SUMMARY:The Great Wasaga Race
DESCRIPTION:Create a team of 2 – 6 ppl and join in this Amazing Race Style event.  Teams will be given clues to find checkpoints around the town of Wasaga Beach.  Once at the checkpoint teams will have to complete a challenge.  There will also be 50 questions to answer about Wasaga to celebrate it’s 50 Year Anniversary. \nWe recommend that you have a vehicle to get to the checkpoints. \nRace starts and finishes at Free Spirit Tours location (across the river from McDonalds). \n$20/team \nStart anytime from 10:00 – 2:00pm…..race is over at 3:30pm.  Team with the fastest time and answers the most questions is the winner!
URL:https://freespirittours.ca/event/the-great-wasaga-race/
LOCATION:Ontario
ATTACH;FMTTYPE=image/png:https://freespirittours.ca/wp-content/uploads/2024/05/Canva-Design.png
END:VEVENT
BEGIN:VEVENT
DTSTART;TZID=America/Toronto:20240523T183000
DTEND;TZID=America/Toronto:20240523T213000
DTSTAMP:20260421T161711
CREATED:20240506T230629Z
LAST-MODIFIED:20240507T212259Z
UID:4842-1716489000-1716499800@freespirittours.ca
SUMMARY:Sisters in the Wild Full Moon Hike & Bonfire
DESCRIPTION:Join us for a moonlit event along the tranquil shores of the Nottawasaga River as we embark on a guided forest hike and bonfire\, sharing stories\, laughter\, and heartfelt moments that bind us together.  Throughout this magical evening\, our hearts will merge into a chorus of connection and empowerment as we delve into the ancient art of storytelling.  It’s about finding our voices nurturing our spirits\, and embracing the magic of sisterhood.  Get ready for an evening filled with love\, laughter\, soulful fulfillment and the captivating power of story.  Let’s embark on this journey together\, weaving memories under the moonlit sky! \n6:30 – 9:30pm \n$60.00
URL:https://freespirittours.ca/event/full-moon-hike-bonfire/
LOCATION:Free Spirit Tours HQ – Wasaga\, 28 Sunset Court\, Wasaga Beach\, Ontario\, L9Y 4Y3\, Canada
ATTACH;FMTTYPE=image/jpeg:https://freespirittours.ca/wp-content/uploads/2024/05/Full-Moon-2.jpg
END:VEVENT
END:VCALENDAR