BEGIN:VCALENDAR
VERSION:2.0
PRODID:-//Free Spirit Tours - ECPv6.15.20//NONSGML v1.0//EN
CALSCALE:GREGORIAN
METHOD:PUBLISH
X-ORIGINAL-URL:https://freespirittours.ca
X-WR-CALDESC:Events for Free Spirit Tours
REFRESH-INTERVAL;VALUE=DURATION:PT1H
X-Robots-Tag:noindex
X-PUBLISHED-TTL:PT1H
BEGIN:VTIMEZONE
TZID:America/Toronto
BEGIN:DAYLIGHT
TZOFFSETFROM:-0500
TZOFFSETTO:-0400
TZNAME:EDT
DTSTART:20230312T070000
END:DAYLIGHT
BEGIN:STANDARD
TZOFFSETFROM:-0400
TZOFFSETTO:-0500
TZNAME:EST
DTSTART:20231105T060000
END:STANDARD
BEGIN:DAYLIGHT
TZOFFSETFROM:-0500
TZOFFSETTO:-0400
TZNAME:EDT
DTSTART:20240310T070000
END:DAYLIGHT
BEGIN:STANDARD
TZOFFSETFROM:-0400
TZOFFSETTO:-0500
TZNAME:EST
DTSTART:20241103T060000
END:STANDARD
BEGIN:DAYLIGHT
TZOFFSETFROM:-0500
TZOFFSETTO:-0400
TZNAME:EDT
DTSTART:20250309T070000
END:DAYLIGHT
BEGIN:STANDARD
TZOFFSETFROM:-0400
TZOFFSETTO:-0500
TZNAME:EST
DTSTART:20251102T060000
END:STANDARD
END:VTIMEZONE
BEGIN:VEVENT
DTSTART;TZID=America/Toronto:20240913T183000
DTEND;TZID=America/Toronto:20240913T213000
DTSTAMP:20260421T095429
CREATED:20240901T175037Z
LAST-MODIFIED:20240902T182240Z
UID:5028-1726252200-1726263000@freespirittours.ca
SUMMARY:Sisters in the Wild - THE ELEMENTS & YOU Gathering & Bonfire
DESCRIPTION:As summer slows and we move into the harvest season\, join us for our next Sisters in the Wild Retreat: The ELEMENTS & YOU. Reconnect through a guided Nature hike and a cozy bonfire\, and explore your Elemental Personality. Discover how nature mirrors our behaviors\, deepens self-awareness\, and strengthens our relationships. We’ll end with a sacred Smudging ritual\, weaving intentions with earth\, water\, air\, and fire to invite balance and positivity. Embrace the start of autumn with us!
URL:https://freespirittours.ca/event/sisters-in-the-wild-the-elements-you-gathering-bonfire/
LOCATION:Bygone Days Heritage Museum\, 879 Sixth St\, Collingwood\, Ontario\, L9Y 3Y9\, Canada
ATTACH;FMTTYPE=image/jpeg:https://freespirittours.ca/wp-content/uploads/2024/09/Sisters-in-the-Wild-Elements-You-Poster.jpg
ORGANIZER;CN="Free Spirit Tours":MAILTO:info@freespirittours.ca
END:VEVENT
END:VCALENDAR