BEGIN:VCALENDAR
VERSION:2.0
PRODID:-//Free Spirit Tours - ECPv6.15.20//NONSGML v1.0//EN
CALSCALE:GREGORIAN
METHOD:PUBLISH
X-WR-CALNAME:Free Spirit Tours
X-ORIGINAL-URL:https://freespirittours.ca
X-WR-CALDESC:Events for Free Spirit Tours
REFRESH-INTERVAL;VALUE=DURATION:PT1H
X-Robots-Tag:noindex
X-PUBLISHED-TTL:PT1H
BEGIN:VTIMEZONE
TZID:America/Toronto
BEGIN:DAYLIGHT
TZOFFSETFROM:-0500
TZOFFSETTO:-0400
TZNAME:EDT
DTSTART:20230312T070000
END:DAYLIGHT
BEGIN:STANDARD
TZOFFSETFROM:-0400
TZOFFSETTO:-0500
TZNAME:EST
DTSTART:20231105T060000
END:STANDARD
BEGIN:DAYLIGHT
TZOFFSETFROM:-0500
TZOFFSETTO:-0400
TZNAME:EDT
DTSTART:20240310T070000
END:DAYLIGHT
BEGIN:STANDARD
TZOFFSETFROM:-0400
TZOFFSETTO:-0500
TZNAME:EST
DTSTART:20241103T060000
END:STANDARD
BEGIN:DAYLIGHT
TZOFFSETFROM:-0500
TZOFFSETTO:-0400
TZNAME:EDT
DTSTART:20250309T070000
END:DAYLIGHT
BEGIN:STANDARD
TZOFFSETFROM:-0400
TZOFFSETTO:-0500
TZNAME:EST
DTSTART:20251102T060000
END:STANDARD
END:VTIMEZONE
BEGIN:VEVENT
DTSTART;TZID=America/Toronto:20241013T120000
DTEND;TZID=America/Toronto:20241013T133000
DTSTAMP:20260421T081916
CREATED:20241004T212524Z
LAST-MODIFIED:20241007T135757Z
UID:5076-1728820800-1728826200@freespirittours.ca
SUMMARY:Thanksgiving Forest Therapy 2024
DESCRIPTION:Join Out_door Kat for a guided Thanksgiving Forest Therapy Walk and cultivate gratitude amidst the beauty of nature. Dress accordingly as we will be outside the entire time. Warm layers\, socks\, gloves\, and hats are recommended. For more information please visit our Forest Therapy page. For all inquiries\, please contact katrinashand@gmail.com.
URL:https://freespirittours.ca/event/thanksgiving-forest-therapy-2024/
LOCATION:Metcalfe Rock\, 415598 10 Line\, Ravenna\, Ontario\, N0H 2E0\, Canada
ATTACH;FMTTYPE=image/png:https://freespirittours.ca/wp-content/uploads/2024/10/thanksgiving-forest-therapy-2024.png
END:VEVENT
END:VCALENDAR